BEGIN:VCALENDAR
VERSION:2.0
PRODID:https://www.mac-lyon.com
BEGIN:VEVENT
UID:69e56aecde617
DTSTART:20230624T140000Z
SEQUENCE:0
TRANSP:OPAQUE
DTEND:20230624T153000Z
LOCATION:Au Living\n
SUMMARY:Performance Chimère\, d’Emmanuelle Pireyre
CLASS:PUBLIC
DTSTAMP:20260419T235316Z
END:VEVENT
END:VCALENDAR