BEGIN:VCALENDAR
VERSION:2.0
PRODID:https://www.mac-lyon.com
BEGIN:VEVENT
UID:69e95cefd92df
DTSTART:20230422T133000Z
SEQUENCE:0
TRANSP:OPAQUE
DTEND:20230422T150000Z
LOCATION:Au macLYON\n
SUMMARY:Rencontre\, Taroni-Cividin\, Diamants de l’Archive
CLASS:PUBLIC
DTSTAMP:20260422T234239Z
END:VEVENT
END:VCALENDAR