BEGIN:VCALENDAR
VERSION:2.0
PRODID:https://www.mac-lyon.com
BEGIN:VEVENT
UID:69e85f0b6bb44
DTSTART:20230922T090000Z
SEQUENCE:0
TRANSP:OPAQUE
DTEND:20240107T170000Z
LOCATION:In macLYON\n
SUMMARY:AYA TAKANO
CLASS:PUBLIC
DTSTAMP:20260422T053923Z
END:VEVENT
END:VCALENDAR