BEGIN:VCALENDAR
VERSION:2.0
PRODID:https://www.mac-lyon.com
BEGIN:VEVENT
UID:69e9602a0ac5f
DTSTART:20230922T090000Z
SEQUENCE:0
TRANSP:OPAQUE
DTEND:20240107T170000Z
LOCATION:In macLYON\n
SUMMARY:Rebecca Ackroyd
CLASS:PUBLIC
DTSTAMP:20260422T235626Z
END:VEVENT
END:VCALENDAR