BEGIN:VCALENDAR
VERSION:2.0
PRODID:https://www.mac-lyon.com
BEGIN:VEVENT
UID:69e59c727adda
DTSTART:20240518T160000Z
SEQUENCE:0
TRANSP:OPAQUE
DTEND:20240518T210000Z
LOCATION:\nAu macLYON\n
SUMMARY:40 ans — Nuit des musées 2024
CLASS:PUBLIC
DTSTAMP:20260420T032434Z
END:VEVENT
END:VCALENDAR