BEGIN:VCALENDAR
VERSION:2.0
PRODID:https://www.mac-lyon.com
BEGIN:VEVENT
UID:69ed25e98d24a
DTSTART:20260620T091500Z
SEQUENCE:0
TRANSP:OPAQUE
DTEND:20260620T110000Z
LOCATION:Au macLYON\n
SUMMARY:Visite Archi
CLASS:PUBLIC
DTSTAMP:20260425T203657Z
END:VEVENT
END:VCALENDAR