BEGIN:VCALENDAR
VERSION:2.0
PRODID:https://www.mac-lyon.com
BEGIN:VEVENT
UID:69ea5fae82647
DTSTART:20250829T130000Z
SEQUENCE:0
TRANSP:OPAQUE
DTEND:20250830T200000Z
SUMMARY:Festi'Cité\, la Cité internationale fête ses 30 ans
CLASS:PUBLIC
DTSTAMP:20260423T180638Z
END:VEVENT
END:VCALENDAR