BEGIN:VCALENDAR
VERSION:2.0
PRODID:https://www.mac-lyon.com
BEGIN:VEVENT
UID:69e93c02c6b76
DTSTART:20201007T090000Z
SEQUENCE:0
TRANSP:OPAQUE
DTEND:20210718T160000Z
LOCATION:In macLYON\n2d&nbsp\;and 3d&nbsp\;floors\n
SUMMARY:With a Hint of Adventure
CLASS:PUBLIC
DTSTAMP:20260422T212210Z
END:VEVENT
END:VCALENDAR