BEGIN:VCALENDAR
VERSION:2.0
PRODID:https://www.mac-lyon.com
BEGIN:VEVENT
UID:69ebb55368b42
DTSTART:20260305T173000Z
SEQUENCE:0
TRANSP:OPAQUE
DTEND:20260305T223000Z
LOCATION:Au macLYON\n&nbsp\;\n
SUMMARY:Opening of the upcoming exhibitions
CLASS:PUBLIC
DTSTAMP:20260424T182419Z
END:VEVENT
END:VCALENDAR