BEGIN:VCALENDAR
VERSION:2.0
PRODID:https://www.mac-lyon.com
BEGIN:VEVENT
UID:69eb2c6925636
DTSTART:20260523T130000Z
SEQUENCE:0
TRANSP:OPAQUE
DTEND:20260523T213000Z
LOCATION:\nAu macLYON\n
SUMMARY:Nuit des musées 2026
CLASS:PUBLIC
DTSTAMP:20260424T084009Z
END:VEVENT
END:VCALENDAR