BEGIN:VCALENDAR
VERSION:2.0
PRODID:https://www.mac-lyon.com
BEGIN:VEVENT
UID:69eb37df08f7a
DTSTART:20260403T103000Z
SEQUENCE:0
TRANSP:OPAQUE
DTEND:20260403T120000Z
LOCATION:Dans l'espace d’exposition\, 3e étage du macLYON.\n
SUMMARY:Quais du polar\, rencontre avec Petra Klabouchová et Andreï Kourk
 ov
CLASS:PUBLIC
DTSTAMP:20260424T092903Z
END:VEVENT
END:VCALENDAR