BEGIN:VCALENDAR
VERSION:2.0
PRODID:https://www.mac-lyon.com
BEGIN:VEVENT
UID:69ed220c7c7d2
DTSTART:20260530T123000Z
SEQUENCE:0
TRANSP:OPAQUE
DTEND:20260530T134500Z
LOCATION:Au Musée d'art contemporain de Lyon\n\nCité Internationale&nbsp\
 ; &nbsp\; &nbsp\; &nbsp\; &nbsp\; &nbsp\; &nbsp\; &nbsp\; &nbsp\; &nbsp\; 
 &nbsp\; &nbsp\; &nbsp\; &nbsp\;\n81 quai Charles de Gaulle&nbsp\; &nbsp\; 
 &nbsp\; &nbsp\; &nbsp\; &nbsp\; &nbsp\; &nbsp\;\n69006 Lyon\nFrance\n
SUMMARY:Avec les yeux et les mains\, visite en LSF
CLASS:PUBLIC
DTSTAMP:20260425T202028Z
END:VEVENT
END:VCALENDAR