BEGIN:VCALENDAR
VERSION:2.0
PRODID:https://www.mac-lyon.com
BEGIN:VEVENT
UID:69eb2bd0e3940
DTSTART:20260429T070000Z
SEQUENCE:0
TRANSP:OPAQUE
DTEND:20260429T180000Z
SUMMARY:50 ans d'initiatives d'artistes
CLASS:PUBLIC
DTSTAMP:20260424T083736Z
END:VEVENT
END:VCALENDAR