BEGIN:VCALENDAR
VERSION:2.0
PRODID:https://www.mac-lyon.com
BEGIN:VEVENT
UID:69ed20aa873f3
DTSTART:20260430T163000Z
SEQUENCE:0
TRANSP:OPAQUE
DTEND:20260430T183000Z
LOCATION:Dans l'auditorium du macLYON\n
SUMMARY:Room Service\, festival du design graphique
CLASS:PUBLIC
DTSTAMP:20260425T201434Z
END:VEVENT
END:VCALENDAR