BEGIN:VCALENDAR
VERSION:2.0
PRODID:https://www.mac-lyon.com
BEGIN:VEVENT
UID:69ed1dfeb83cb
DTSTART:20260528T163000Z
SEQUENCE:0
TRANSP:OPAQUE
DTEND:20260528T183000Z
LOCATION:Dans l'Auditorium du macLYON\n
SUMMARY:Rencontre dans l'intimité de la collection Lemaître
CLASS:PUBLIC
DTSTAMP:20260425T200310Z
END:VEVENT
END:VCALENDAR