BEGIN:VCALENDAR
VERSION:2.0
PRODID:https://www.mac-lyon.com
BEGIN:VEVENT
UID:69ea52f473a4a
DTSTART:20100911T090000Z
SEQUENCE:0
TRANSP:OPAQUE
DTEND:20101231T170000Z
LOCATION:At MAC Lyon\n
SUMMARY:Collection: Bruce Nauman's works
CLASS:PUBLIC
DTSTAMP:20260423T171220Z
END:VEVENT
END:VCALENDAR