BEGIN:VCALENDAR
VERSION:2.0
PRODID:https://www.mac-lyon.com
BEGIN:VEVENT
UID:69eaad3bf3967
DTSTART:20200826T080000Z
SEQUENCE:0
TRANSP:OPAQUE
DTEND:20201001T160000Z
LOCATION:\nAt Manifesta\n6 rue Pizay\n69001 Lyon (Metro Hôtel de Ville)\n0
 7 72 15 42 21\n
SUMMARY:Figurez-vous...
CLASS:PUBLIC
DTSTAMP:20260423T233732Z
END:VEVENT
END:VCALENDAR