BEGIN:VCALENDAR
VERSION:2.0
PRODID:https://www.mac-lyon.com
BEGIN:VEVENT
UID:69ebb048d8a10
DTSTART:20110224T100000Z
SEQUENCE:0
TRANSP:OPAQUE
DTEND:20110731T160000Z
LOCATION:At&nbsp\;the museum\n
SUMMARY:Indian Highway IV
CLASS:PUBLIC
DTSTAMP:20260424T180248Z
END:VEVENT
END:VCALENDAR