BEGIN:VCALENDAR
VERSION:2.0
PRODID:https://www.mac-lyon.com
BEGIN:VEVENT
UID:69ebc4e9f2814
DTSTART:20110519T133000Z
SEQUENCE:0
TRANSP:OPAQUE
DTEND:20110519T190000Z
LOCATION:En salle de conférences\n
SUMMARY:Outsider films
CLASS:PUBLIC
DTSTAMP:20260424T193049Z
END:VEVENT
END:VCALENDAR