BEGIN:VCALENDAR
VERSION:2.0
PRODID:https://www.mac-lyon.com
BEGIN:VEVENT
UID:69e562b8a23be
DTSTART:20111017T120000Z
SEQUENCE:0
TRANSP:OPAQUE
DTEND:20111031T180000Z
LOCATION:Square Raverat\, Saint-Priest\n20-21 rue Maréchal Leclerc (en fac
 e de l'Hôtel de Ville de Saint-Priest)\n&nbsp\;\n
SUMMARY:Boîte noire
CLASS:PUBLIC
DTSTAMP:20260419T231816Z
END:VEVENT
END:VCALENDAR