BEGIN:VCALENDAR
VERSION:2.0
PRODID:https://www.mac-lyon.com
BEGIN:VEVENT
UID:69e569f6b50e1
DTSTART:20070606T090000Z
SEQUENCE:0
TRANSP:OPAQUE
DTEND:20070805T160000Z
LOCATION:&nbsp\;\n\nMusée d'art contemporain\n
SUMMARY:The Freak Show
CLASS:PUBLIC
DTSTAMP:20260419T234910Z
END:VEVENT
END:VCALENDAR