BEGIN:VCALENDAR
VERSION:2.0
PRODID:https://www.mac-lyon.com
BEGIN:VEVENT
UID:69eba09e2c0d0
DTSTART:20060616T070000Z
SEQUENCE:0
TRANSP:OPAQUE
DTEND:20060813T160000Z
LOCATION:&nbsp\;\n\nMusée d'art contemporain\n
SUMMARY:Bettina Rheims 
CLASS:PUBLIC
DTSTAMP:20260424T165558Z
END:VEVENT
END:VCALENDAR