BEGIN:VCALENDAR
VERSION:2.0
PRODID:https://www.mac-lyon.com
BEGIN:VEVENT
UID:69e708ca267e4
DTSTART:20190308T100000Z
SEQUENCE:0
TRANSP:OPAQUE
DTEND:20190428T160000Z
LOCATION:Third floor in the museum\n
SUMMARY:Tal Isaac Hadad
CLASS:PUBLIC
DTSTAMP:20260421T051906Z
END:VEVENT
END:VCALENDAR