BEGIN:VCALENDAR
VERSION:2.0
PRODID:https://www.mac-lyon.com
BEGIN:VEVENT
UID:69e7a0c6cf2ea
DTSTART:20210611T163000Z
SEQUENCE:0
TRANSP:OPAQUE
DTEND:20210611T180000Z
LOCATION:A l'auditorium du Musée des beaux-arts\n
SUMMARY:Gilles A. Tiberghien
CLASS:PUBLIC
DTSTAMP:20260421T160734Z
END:VEVENT
END:VCALENDAR