BEGIN:VCALENDAR
VERSION:2.0
PRODID:https://www.mac-lyon.com
BEGIN:VEVENT
UID:69ea1d230af8f
DTSTART:20220211T100000Z
SEQUENCE:0
TRANSP:OPAQUE
DTEND:20220710T160000Z
LOCATION:At the Musée d'art contemporain de Lyon\n
SUMMARY:Crossover : David Posth-Kohler x Bruce Nauman
CLASS:PUBLIC
DTSTAMP:20260423T132243Z
END:VEVENT
END:VCALENDAR