BEGIN:VCALENDAR
VERSION:2.0
PRODID:https://www.mac-lyon.com
BEGIN:VEVENT
UID:69ea07e1db201
DTSTART:20220409T120000Z
SEQUENCE:0
TRANSP:OPAQUE
DTEND:20220410T150000Z
LOCATION:macROOM&nbsp\;\n
SUMMARY:Do it Yourself. Atelier avec David Posth-Kohler 
CLASS:PUBLIC
DTSTAMP:20260423T115201Z
END:VEVENT
END:VCALENDAR