BEGIN:VCALENDAR
VERSION:2.0
PRODID:https://www.mac-lyon.com
BEGIN:VEVENT
UID:69e5809990dfd
DTSTART:20220326T100000Z
SEQUENCE:0
TRANSP:OPAQUE
DTEND:20220326T160000Z
LOCATION:Au musée\nRendez-vous dans le hall\n
SUMMARY:What’Sup 2022
CLASS:PUBLIC
DTSTAMP:20260420T012545Z
END:VEVENT
END:VCALENDAR