BEGIN:VCALENDAR
VERSION:2.0
PRODID:https://www.mac-lyon.com
BEGIN:VEVENT
UID:69e63c9986b01
DTSTART:20230304T140000Z
SEQUENCE:0
TRANSP:OPAQUE
DTEND:20230304T160000Z
LOCATION:&nbsp\;\n\nDans le Living\nau macLYON\n
SUMMARY:Perrine Lacroix\, le Mur écroulé
CLASS:PUBLIC
DTSTAMP:20260420T144753Z
END:VEVENT
END:VCALENDAR