BEGIN:VCALENDAR
VERSION:2.0
PRODID:https://www.mac-lyon.com
BEGIN:VEVENT
UID:69e9ebbdec4a0
DTSTART:20231118T100000Z
SEQUENCE:0
TRANSP:OPAQUE
DTEND:20231118T130000Z
LOCATION:au macLYON\n&nbsp\; &nbsp\; &nbsp\; &nbsp\; &nbsp\; &nbsp\; &nbsp\
 ; &nbsp\; &nbsp\; &nbsp\; &nbsp\; &nbsp\; &nbsp\; &nbsp\;\n81 quai Charles
  de Gaulle\n69006 Lyon\nFrance\n\nBus lignes C1\, C4\, C5 : arrêt Musée 
 d'art contemporain.\nAutres infos sur le trajet ici.\n
SUMMARY:Atelier performance en LSF 2023
CLASS:PUBLIC
DTSTAMP:20260423T095157Z
END:VEVENT
END:VCALENDAR