BEGIN:VCALENDAR
VERSION:2.0
PRODID:https://www.mac-lyon.com
BEGIN:VEVENT
UID:69e9ff312122b
DTSTART:20231202T140000Z
SEQUENCE:0
TRANSP:OPAQUE
DTEND:20231202T150000Z
LOCATION:Au macLYON\n
SUMMARY:Performance en LSF 
CLASS:PUBLIC
DTSTAMP:20260423T111457Z
END:VEVENT
END:VCALENDAR