BEGIN:VCALENDAR
VERSION:2.0
PRODID:https://www.mac-lyon.com
BEGIN:VEVENT
UID:69e57067215f6
DTSTART:20240517T090000Z
SEQUENCE:0
TRANSP:OPAQUE
DTEND:20240519T160000Z
LOCATION:\nAu macLYON\n
SUMMARY:Week-end anniversaire : 40 ans
CLASS:PUBLIC
DTSTAMP:20260420T001639Z
END:VEVENT
END:VCALENDAR