BEGIN:VCALENDAR
VERSION:2.0
PRODID:https://www.mac-lyon.com
BEGIN:VEVENT
UID:69e55a06d7d52
DTSTART:20240517T080000Z
SEQUENCE:0
TRANSP:OPAQUE
DTEND:20240517T153000Z
LOCATION:En salle de conférence du macLYON\n
SUMMARY:40 ans — Vendredi : tables rondes et rencontres
CLASS:PUBLIC
DTSTAMP:20260419T224110Z
END:VEVENT
END:VCALENDAR