BEGIN:VCALENDAR
VERSION:2.0
PRODID:https://www.mac-lyon.com
BEGIN:VEVENT
UID:69e5874c07677
DTSTART:20240519T090000Z
SEQUENCE:0
TRANSP:OPAQUE
DTEND:20240519T160000Z
LOCATION:Au macLYON\n
SUMMARY:40 ans — Dimanche : Danses et concerts
CLASS:PUBLIC
DTSTAMP:20260420T015420Z
END:VEVENT
END:VCALENDAR