BEGIN:VCALENDAR
VERSION:2.0
PRODID:https://www.mac-lyon.com
BEGIN:VEVENT
UID:69e5875b83f64
DTSTART:20240517T090000Z
SEQUENCE:0
TRANSP:OPAQUE
DTEND:20240707T160000Z
LOCATION:Dans le hall d'entrée du macLYON\n
SUMMARY:Les 40 ans du macLYON — Wall drawing par Ludovic Paquelier
CLASS:PUBLIC
DTSTAMP:20260420T015435Z
END:VEVENT
END:VCALENDAR