BEGIN:VCALENDAR
VERSION:2.0
PRODID:https://www.mac-lyon.com
BEGIN:VEVENT
UID:69e54665df028
DTSTART:20250410T170000Z
SEQUENCE:0
TRANSP:OPAQUE
DTEND:20250410T183000Z
LOCATION:&nbsp\;\n\nEn salle de conférences du macLYON\n
SUMMARY:Diane Cescutti et Quentin Lannes en dialogue avec Oulimata Gueye et
  David-Olivier Lartigaud
CLASS:PUBLIC
DTSTAMP:20260419T211725Z
END:VEVENT
END:VCALENDAR