BEGIN:VCALENDAR
VERSION:2.0
PRODID:https://www.mac-lyon.com
BEGIN:VEVENT
UID:69ecee355e2bc
DTSTART:20250409T090000Z
SEQUENCE:0
TRANSP:OPAQUE
DTEND:20250504T160000Z
SUMMARY:Unité de Recherche Numérique 
CLASS:PUBLIC
DTSTAMP:20260425T163917Z
END:VEVENT
END:VCALENDAR