BEGIN:VCALENDAR
VERSION:2.0
PRODID:https://www.mac-lyon.com
BEGIN:VEVENT
UID:69e6e3358ec27
DTSTART:20260326T173000Z
SEQUENCE:0
TRANSP:OPAQUE
DTEND:20260326T223000Z
LOCATION:Au macLYON\n
SUMMARY:Nocturne étudiante 2026
CLASS:PUBLIC
DTSTAMP:20260421T023845Z
END:VEVENT
END:VCALENDAR