BEGIN:VCALENDAR
VERSION:2.0
PRODID:https://www.mac-lyon.com
BEGIN:VEVENT
UID:69eb65fa3b7a7
DTSTART:20260306T100000Z
SEQUENCE:0
TRANSP:OPAQUE
DTEND:20260712T160000Z
LOCATION:Au macLYON\n
SUMMARY:Encore lui ! Jean-Claude Guillaumon
CLASS:PUBLIC
DTSTAMP:20260424T124546Z
END:VEVENT
END:VCALENDAR