BEGIN:VCALENDAR
VERSION:2.0
PRODID:https://www.mac-lyon.com
BEGIN:VEVENT
UID:69eb0e08647b6
DTSTART:20260306T100000Z
SEQUENCE:0
TRANSP:OPAQUE
DTEND:20260712T160000Z
LOCATION:Au macLYON\n
SUMMARY:Peinture froide. Giulia Andreani
CLASS:PUBLIC
DTSTAMP:20260424T063032Z
END:VEVENT
END:VCALENDAR