BEGIN:VCALENDAR
VERSION:2.0
PRODID:https://www.mac-lyon.com
BEGIN:VEVENT
UID:69eba064512e7
DTSTART:20260305T173000Z
SEQUENCE:0
TRANSP:OPAQUE
DTEND:20260305T223000Z
LOCATION:Au macLYON\n&nbsp\;\n
SUMMARY:Inauguration des prochaines expositions
CLASS:PUBLIC
DTSTAMP:20260424T165500Z
END:VEVENT
END:VCALENDAR