BEGIN:VCALENDAR
VERSION:2.0
PRODID:https://www.mac-lyon.com
BEGIN:VEVENT
UID:69eb203f0330f
DTSTART:20260307T143000Z
SEQUENCE:0
TRANSP:OPAQUE
DTEND:20260307T160000Z
LOCATION:Au cœur de l'exposition Peinture Froide\, 3ème étage du musée\
 n
SUMMARY:Événement reporté - Rencontre avec Giulia Andreani
CLASS:PUBLIC
DTSTAMP:20260424T074815Z
END:VEVENT
END:VCALENDAR