BEGIN:VCALENDAR
VERSION:2.0
PRODID:https://www.mac-lyon.com
BEGIN:VEVENT
UID:69e6b0464d211
DTSTART:20260426T140000Z
SEQUENCE:0
TRANSP:OPAQUE
DTEND:20260426T153000Z
LOCATION:L'atelier aura lieu à la macROOM\, l'espace créatif du musée.\n
SUMMARY:Ateliers avec l'artiste Alice Marie Martin
CLASS:PUBLIC
DTSTAMP:20260420T230126Z
END:VEVENT
END:VCALENDAR