BEGIN:VCALENDAR
VERSION:2.0
PRODID:https://www.mac-lyon.com
BEGIN:VEVENT
UID:69ed095bae26c
DTSTART:20260606T120000Z
SEQUENCE:0
TRANSP:OPAQUE
DTEND:20260606T150000Z
LOCATION:Dans tous les espaces du musée.\n
SUMMARY:SurgissementS\, festival du Conservatoire de Lyon
CLASS:PUBLIC
DTSTAMP:20260425T183507Z
END:VEVENT
END:VCALENDAR