BEGIN:VCALENDAR
VERSION:2.0
PRODID:https://www.mac-lyon.com
BEGIN:VEVENT
UID:69e5b9dda7312
DTSTART:20260428T090000Z
SEQUENCE:0
TRANSP:OPAQUE
DTEND:20260523T160000Z
SUMMARY:50 ans d'art contemporain à Lyon
CLASS:PUBLIC
DTSTAMP:20260420T053005Z
END:VEVENT
END:VCALENDAR