BEGIN:VCALENDAR
VERSION:2.0
PRODID:https://www.mac-lyon.com
BEGIN:VEVENT
UID:69e5d059ba20c
DTSTART:20260428T070000Z
SEQUENCE:0
TRANSP:OPAQUE
DTEND:20260428T180000Z
LOCATION:À l’École nationale supérieure des beaux-arts de Lyon.\n8 bis
  Quai Saint-Vincent\, 69001 Lyon.\n
SUMMARY:50 ans de l’elac à aujourd’hui
CLASS:PUBLIC
DTSTAMP:20260420T070601Z
END:VEVENT
END:VCALENDAR