BEGIN:VCALENDAR
VERSION:2.0
PRODID:https://www.mac-lyon.com
BEGIN:VEVENT
UID:69e58e8d85f2b
DTSTART:20260419T101500Z
SEQUENCE:0
TRANSP:OPAQUE
DTEND:20260419T113000Z
LOCATION:Au macLYON\n
SUMMARY:Encore lui ! La Guillaumon-visite
CLASS:PUBLIC
DTSTAMP:20260420T022517Z
END:VEVENT
END:VCALENDAR