BEGIN:VCALENDAR
VERSION:2.0
PRODID:https://www.mac-lyon.com
BEGIN:VEVENT
UID:69ecaf1369e5d
DTSTART:20260425T133000Z
SEQUENCE:0
TRANSP:OPAQUE
DTEND:20260425T150000Z
LOCATION:Auditorium du macLYON.\n
SUMMARY:Rencontre Télérama autour de l'art vidéo
CLASS:PUBLIC
DTSTAMP:20260425T120955Z
END:VEVENT
END:VCALENDAR