BEGIN:VCALENDAR
VERSION:2.0
PRODID:https://www.mac-lyon.com
BEGIN:VEVENT
UID:69ea3fd1175fb
DTSTART:20100911T090000Z
SEQUENCE:0
TRANSP:OPAQUE
DTEND:20101231T170000Z
LOCATION:Au 3e étage du musée\n
SUMMARY:Bruce Nauman
CLASS:PUBLIC
DTSTAMP:20260423T155041Z
END:VEVENT
END:VCALENDAR