BEGIN:VCALENDAR
VERSION:2.0
PRODID:https://www.mac-lyon.com
BEGIN:VEVENT
UID:69e8f93fc1aa1
DTSTART:20120927T160000Z
SEQUENCE:0
TRANSP:OPAQUE
DTEND:20170927T194500Z
LOCATION:Aux abords du musée\n
SUMMARY:Buckminster Fuller
CLASS:PUBLIC
DTSTAMP:20260422T163719Z
END:VEVENT
END:VCALENDAR