BEGIN:VCALENDAR
VERSION:2.0
PRODID:https://www.mac-lyon.com
BEGIN:VEVENT
UID:69ebd74d3749d
DTSTART:20110224T100000Z
SEQUENCE:0
TRANSP:OPAQUE
DTEND:20110731T160000Z
LOCATION:Salle de conférences\n
SUMMARY:Programme vidéo Indian Highway
CLASS:PUBLIC
DTSTAMP:20260424T204917Z
END:VEVENT
END:VCALENDAR